BEGIN:VCALENDAR
VERSION:2.0
PRODID:-//MCRA - ECPv2.0.11//NONSGML v1.0//EN
CALSCALE:GREGORIAN
METHOD:PUBLISH
X-WR-CALNAME:MCRA
X-ORIGINAL-URL:http://mscra.com
X-WR-CALDESC:Events for MCRA
X-WR-TIMEZONE:America/Chicago
BEGIN:VEVENT
DTSTART;VALUE=DATE:20150715
DTEND;VALUE=DATE:20150716
DTSTAMP:20260424T174409
CREATED:20150615T224422
LAST-MODIFIED:20150615T225227
UID:2693-1436918400-1437004800@http://mscra.com
SUMMARY:Printed Directory Deadline
DESCRIPTION:Want to be included in the MCRA printed directory?    The last printed directory was printed in 2010.    Don't miss the July 15th deadline!    Go to mscra.com to use PayPal or send dues to MCRA\, P.O. Box 245\, Ridgeland\, MS 39157    Also\, please verify ALL of your profile information through mscra.com.  The printed directory will be complied from information we have saved on our online directory.
LOCATION:
URL:http://mscra.com/event/2693/
END:VEVENT
END:VCALENDAR