BEGIN:VCALENDAR
VERSION:2.0
PRODID:-//MCRA - ECPv2.0.11//NONSGML v1.0//EN
CALSCALE:GREGORIAN
METHOD:PUBLISH
X-WR-CALNAME:MCRA
X-ORIGINAL-URL:http://mscra.com
X-WR-CALDESC:Events for MCRA
X-WR-TIMEZONE:America/Chicago
BEGIN:VEVENT
DTSTART;VALUE=DATE-TIME:20140423T090000
DTEND;VALUE=DATE-TIME:20140425T120000.000000
DTSTAMP:20260424T174846
CREATED:20140225T132345
LAST-MODIFIED:20140225T132442
UID:1880-1398243600-@http://mscra.com
SUMMARY:43rd Annual Spring Seminar and Convention for Court Reporters
DESCRIPTION:Registration packet is now available:  CR Spring Registration Packet 2014  Be sure to make your hotel reservations ASAP because rooms are limited and they will fill up fast.  After the rooms in the limited block are gone\, room will be reserved on a space-available basis at the best available rate.  See you all in April for a fantastic seminar!  
LOCATION:151 Beach Blvd., Biloxi, MS, 39530, United States
URL:http://mscra.com/event/43rd-annual-spring-seminar-and-convention-for-court-reporters/
END:VEVENT
END:VCALENDAR