BEGIN:VCALENDAR
VERSION:2.0
PRODID:-//MCRA - ECPv2.0.11//NONSGML v1.0//EN
CALSCALE:GREGORIAN
METHOD:PUBLISH
X-WR-CALNAME:MCRA
X-ORIGINAL-URL:http://mscra.com
X-WR-CALDESC:Events for MCRA
X-WR-TIMEZONE:America/Chicago
BEGIN:VEVENT
DTSTART;VALUE=DATE-TIME:20160426T121500
DTEND;VALUE=DATE-TIME:20160428T120000.000000
DTSTAMP:20260424T173751
CREATED:20160219T132216
LAST-MODIFIED:20160219T132216
UID:3028-1461672900-@http://mscra.com
SUMMARY:45th Annual Spring Seminar and Convention for Court Reporters
DESCRIPTION:Are YOU ready to celebrate MCRA's 50th?    Registration is now OPEN!   Click HERE for CR Spring Registration Packet.  Click HERE for CR Spring Agenda.  Click HERE for CR Spring Interactive Registration Form.    Be sure to make your hotel reservations ASAP because rooms are limited and they will fill up super fast.  The deadline for making reservations with the Beau Rivage in the MJC room block is March 26\, 2016\, or until rooms in the block are gone\, whichever comes first.  Please read the registration packet for specific details.  The registration form is interactive and may be filled out electronically\, saved to another name\, and e-mailed back.    Please Note:  Convention days are TUESDAY\, WEDNESDAY\, THURSDAY!     See you all in April  at the Beau Rivage in Biloxi\, Mississippi\, for a Fabulous MCRA 50th Celebration Seminar!
LOCATION:875 Beach Blvd., Biloxi, MS, 39530, United States
URL:http://mscra.com/event/45th-annual-spring-seminar-and-convention-for-court-reporters/
END:VEVENT
END:VCALENDAR