BEGIN:VCALENDAR
VERSION:2.0
PRODID:-//MCRA - ECPv2.0.11//NONSGML v1.0//EN
CALSCALE:GREGORIAN
METHOD:PUBLISH
X-WR-CALNAME:MCRA
X-ORIGINAL-URL:http://mscra.com
X-WR-CALDESC:Events for MCRA
X-WR-TIMEZONE:America/Chicago
BEGIN:VEVENT
DTSTART;VALUE=DATE-TIME:20131024T090000
DTEND;VALUE=DATE-TIME:20131025T114500.000000
DTSTAMP:20260424T185511
CREATED:20130626T093819
LAST-MODIFIED:20130821T112452
UID:1471-1382605200-@http://mscra.com
SUMMARY:Annual Fall Seminar and Convention for Court Reporters
DESCRIPTION:CR Fall Registration Packet 2013  NEW E-Registration Form
LOCATION:7300 Hacks Cross, Olive Branch, MS, 38654, United States
URL:http://mscra.com/event/annual-fall-seminar-and-convention-for-court-reporters/
END:VEVENT
END:VCALENDAR