BEGIN:VCALENDAR
VERSION:2.0
PRODID:-//MCRA - ECPv2.0.11//NONSGML v1.0//EN
CALSCALE:GREGORIAN
METHOD:PUBLISH
X-WR-CALNAME:MCRA
X-ORIGINAL-URL:http://mscra.com
X-WR-CALDESC:Events for MCRA
X-WR-TIMEZONE:America/Chicago
BEGIN:VEVENT
DTSTART;VALUE=DATE-TIME:20250425T090000
DTEND;VALUE=DATE-TIME:20250425T170000.000000
DTSTAMP:20260424T152204
CREATED:20250215T081241
LAST-MODIFIED:20250215T081241
UID:4900-1745571600-@http://mscra.com
SUMMARY:MCRA APRIL 2025 SEMINAR - OLD CAPITOL INN, JACKSON, MS
DESCRIPTION:Please mark your calendars for April 25\, 2025\, (one-day seminar)  Location:  Old Capitol Inn\, Jackson\, Mississippi.    Details regarding how to register and cost will be posted at a later time.
LOCATION:226 N. State Street, Jackson, MS, MS, 39201, United States
URL:http://mscra.com/event/mcra-april-2025-seminar-old-capitol-inn-jackson-ms/
END:VEVENT
END:VCALENDAR