BEGIN:VCALENDAR
VERSION:2.0
PRODID:-//MCRA - ECPv2.0.11//NONSGML v1.0//EN
CALSCALE:GREGORIAN
METHOD:PUBLISH
X-WR-CALNAME:MCRA
X-ORIGINAL-URL:http://mscra.com
X-WR-CALDESC:Events for MCRA
X-WR-TIMEZONE:America/Chicago
BEGIN:VEVENT
DTSTART;VALUE=DATE-TIME:20180130T193000
DTEND;VALUE=DATE-TIME:20180130T203000.000000
DTSTAMP:20260424T162516
CREATED:20140418T134154
LAST-MODIFIED:20180123T215744
UID:2182-1517340600-@http://mscra.com
SUMMARY:MCRA Board Meeting
DESCRIPTION:
LOCATION:
URL:http://mscra.com/event/mcra-board-meeting-3/
END:VEVENT
END:VCALENDAR