BEGIN:VCALENDAR
VERSION:2.0
PRODID:-//MCRA - ECPv2.0.11//NONSGML v1.0//EN
CALSCALE:GREGORIAN
METHOD:PUBLISH
X-WR-CALNAME:MCRA
X-ORIGINAL-URL:http://mscra.com
X-WR-CALDESC:Events for MCRA
X-WR-TIMEZONE:America/Chicago
BEGIN:VEVENT
DTSTART;VALUE=DATE-TIME:20180313T193000
DTEND;VALUE=DATE-TIME:20180313T203000.000000
DTSTAMP:20260424T162513
CREATED:20140418T134340
LAST-MODIFIED:20180604T011002
UID:2184-1520969400-@http://mscra.com
SUMMARY:MCRA Board Meeting
DESCRIPTION:June 7\, 2018
LOCATION:
URL:http://mscra.com/event/mcra-board-meeting-5/
END:VEVENT
END:VCALENDAR