BEGIN:VCALENDAR
VERSION:2.0
PRODID:-//MCRA - ECPv2.0.11//NONSGML v1.0//EN
CALSCALE:GREGORIAN
METHOD:PUBLISH
X-WR-CALNAME:MCRA
X-ORIGINAL-URL:http://mscra.com
X-WR-CALDESC:Events for MCRA
X-WR-TIMEZONE:America/Chicago
BEGIN:VEVENT
DTSTART;VALUE=DATE-TIME:20201110T190000
DTEND;VALUE=DATE-TIME:20201110T190000.000000
DTSTAMP:20260424T151712
CREATED:20190604T210606
LAST-MODIFIED:20200509T104713
UID:3867-1605034800-@http://mscra.com
SUMMARY:MCRA Board Meeting
DESCRIPTION:
LOCATION:
URL:http://mscra.com/event/mcra-board-meeting-8/
END:VEVENT
END:VCALENDAR