BEGIN:VCALENDAR
VERSION:2.0
PRODID:-//MCRA - ECPv2.0.11//NONSGML v1.0//EN
CALSCALE:GREGORIAN
METHOD:PUBLISH
X-WR-CALNAME:MCRA
X-ORIGINAL-URL:http://mscra.com
X-WR-CALDESC:Events for MCRA
X-WR-TIMEZONE:America/Chicago
BEGIN:VEVENT
DTSTART;VALUE=DATE-TIME:20200929T190000
DTEND;VALUE=DATE-TIME:20200929T210000.000000
DTSTAMP:20260424T145548
CREATED:20190604T210701
LAST-MODIFIED:20200509T104644
UID:3868-1601406000-@http://mscra.com
SUMMARY:MCRA Board Meeting
DESCRIPTION:
LOCATION:
URL:http://mscra.com/event/mcra-board-meeting-9/
END:VEVENT
END:VCALENDAR