BEGIN:VCALENDAR
VERSION:2.0
PRODID:-//MCRA - ECPv2.0.11//NONSGML v1.0//EN
CALSCALE:GREGORIAN
METHOD:PUBLISH
X-WR-CALNAME:MCRA
X-ORIGINAL-URL:http://mscra.com
X-WR-CALDESC:Events for MCRA
X-WR-TIMEZONE:America/Chicago
BEGIN:VEVENT
DTSTART;VALUE=DATE-TIME:20140726T080000
DTEND;VALUE=DATE-TIME:20140726T173000.000000
DTSTAMP:20260424T173423
CREATED:20140531T100600
LAST-MODIFIED:20140531T103745
UID:2254-1406361600-@http://mscra.com
SUMMARY:MCRA CEU Seminar for Court Reporters
DESCRIPTION:Registration Packet is now available:  Seminar in Oxford Registration Packet 2014    Be sure to make your hotel reservations ASAP because rooms are limited and they will fill up extremely fast.  The hotel is holding a limited block of rooms for this seminar until June 25\, 2014.  After the rooms in the limited block are gone\, room will be reserved on a space-available basis at the best available rate.    Don't miss the Double Decker Bus Tour Friday\, July 25\, 2014\, at 6:30 p.m.!    See you all in July for a fantastic seminar in Beautiful and Historic Oxford\, Mississippi!
LOCATION:120 Alumni Drive, Oxford, MS, 38677, United States
URL:http://mscra.com/event/mcra-ceu-seminar-for-court-reporters/
END:VEVENT
END:VCALENDAR