BEGIN:VCALENDAR
VERSION:2.0
PRODID:-//MCRA - ECPv2.0.11//NONSGML v1.0//EN
CALSCALE:GREGORIAN
METHOD:PUBLISH
X-WR-CALNAME:MCRA
X-ORIGINAL-URL:http://mscra.com
X-WR-CALDESC:Events for MCRA
X-WR-TIMEZONE:America/Chicago
BEGIN:VEVENT
DTSTART;VALUE=DATE-TIME:20221027T080000
DTEND;VALUE=DATE-TIME:20221028T130000.000000
DTSTAMP:20260424T150617
CREATED:20220311T222952
LAST-MODIFIED:20220907T091803
UID:4091-1666857600-@http://mscra.com
SUMMARY:MCRA Fall Conference
DESCRIPTION:
LOCATION:151 Beach Blvd., Biloxi, MS, 39530, United States
URL:http://mscra.com/event/mcra-fall-conference/
END:VEVENT
END:VCALENDAR