BEGIN:VCALENDAR
VERSION:2.0
PRODID:-//MCRA - ECPv2.0.11//NONSGML v1.0//EN
CALSCALE:GREGORIAN
METHOD:PUBLISH
X-WR-CALNAME:MCRA
X-ORIGINAL-URL:http://mscra.com
X-WR-CALDESC:Events for MCRA
X-WR-TIMEZONE:America/Chicago
BEGIN:VEVENT
DTSTART;VALUE=DATE-TIME:20131116T080000
DTEND;VALUE=DATE-TIME:20131116T173000.000000
DTSTAMP:20260424T185701
CREATED:20130812T173936
LAST-MODIFIED:20130924T231146
UID:1668-1384588800-@http://mscra.com
SUMMARY:MCRA One-Day Conference
DESCRIPTION:LODGING:    Hotel room rates are $139.99\, single or double.  You must call the hotel and make your own reservations.  The IP Casino\, Resort &amp; Spa recommends making reservations online by going to www.ipbiloxi.com/groups or call their Room Reservations Department directly at 888-946-2847\, press 1 for reservations\, identify yourself as Mississippi Court Reporters Association CEU (Code: S13380)\, and secure room reservation at seminar rate with credit card.  Cutoff date for the rooms is Friday\, October 25\, 2013.  Reservations made on or after this date will be made on a space available basis without special group rate.    SEMINAR:    Registration Packet
LOCATION:850 Bayview Avenue, Biloxi, MS, 39530, United States
URL:http://mscra.com/event/mcra-one-day-conference/
END:VEVENT
END:VCALENDAR