BEGIN:VCALENDAR
VERSION:2.0
PRODID:-//MCRA - ECPv2.0.11//NONSGML v1.0//EN
CALSCALE:GREGORIAN
METHOD:PUBLISH
X-WR-CALNAME:MCRA
X-ORIGINAL-URL:http://mscra.com
X-WR-CALDESC:Events for MCRA
X-WR-TIMEZONE:America/Chicago
BEGIN:VEVENT
DTSTART;VALUE=DATE-TIME:20220427T130000
DTEND;VALUE=DATE-TIME:20220429T110000.000000
DTSTAMP:20260424T145711
CREATED:20220311T222218
LAST-MODIFIED:20220311T222218
UID:4090-1651064400-@http://mscra.com
SUMMARY:MCRA Spring Seminar
DESCRIPTION:
LOCATION:875 Beach Blvd., Biloxi, MS, 39530, United States
URL:http://mscra.com/event/mcra-spring-seminar/
END:VEVENT
END:VCALENDAR