BEGIN:VCALENDAR
VERSION:2.0
PRODID:-//MCRA - ECPv2.0.11//NONSGML v1.0//EN
CALSCALE:GREGORIAN
METHOD:PUBLISH
X-WR-CALNAME:MCRA
X-ORIGINAL-URL:http://mscra.com
X-WR-CALDESC:Events for MCRA
X-WR-TIMEZONE:America/Chicago
BEGIN:VEVENT
DTSTART;VALUE=DATE:20170211
DTEND;VALUE=DATE:20170220
DTSTAMP:20260424T174642
CREATED:20160510T094411
LAST-MODIFIED:20161216T205637
UID:3088-1486771200-1487548800@http://mscra.com
SUMMARY:National Court Reporting &amp; Captioning Week
DESCRIPTION:Help Celebrate National Court Reporting &amp; Captioning Week!   List of celebration resources can be found HERE or mscra.com.
LOCATION:
URL:http://mscra.com/event/national-court-reporting-captioning-week-2/
END:VEVENT
END:VCALENDAR