BEGIN:VCALENDAR
VERSION:2.0
PRODID:-//MCRA - ECPv2.0.11//NONSGML v1.0//EN
CALSCALE:GREGORIAN
METHOD:PUBLISH
X-WR-CALNAME:MCRA
X-ORIGINAL-URL:http://mscra.com
X-WR-CALDESC:Events for MCRA
X-WR-TIMEZONE:America/Chicago
BEGIN:VEVENT
DTSTART;VALUE=DATE:20190815
DTEND;VALUE=DATE:20190819
DTSTAMP:20260424T163244
CREATED:20190604T093511
LAST-MODIFIED:20190604T211935
UID:3086-1565827200-1566172800@http://mscra.com
SUMMARY:NCRA Convention &amp; Expo
DESCRIPTION:Click HERE for all the registration details for the 2019 National Convention in Denver\, Colorado.
LOCATION:
URL:http://mscra.com/event/ncra-convention-expo-4/
END:VEVENT
END:VCALENDAR