BEGIN:VCALENDAR
VERSION:2.0
PRODID:-//MCRA - ECPv2.0.11//NONSGML v1.0//EN
CALSCALE:GREGORIAN
METHOD:PUBLISH
X-WR-CALNAME:MCRA
X-ORIGINAL-URL:http://mscra.com
X-WR-CALDESC:Events for MCRA
X-WR-TIMEZONE:America/Chicago
BEGIN:VEVENT
DTSTART;VALUE=DATE-TIME:20151022T180000
DTEND;VALUE=DATE-TIME:20151022T200000.000000
DTSTAMP:20260424T174403
CREATED:20150903T110303
LAST-MODIFIED:20150903T111011
UID:2761-1445536800-@http://mscra.com
SUMMARY:Convention Night Fun!
DESCRIPTION:JUST FOR FUN!    Join MCRA at Easely Amused for an abstract painting of our steno keyboard Thursday\, October 22nd\, 2015\, 6:00 p.m. to 8:00 p.m. The class accommodates 40 artists; so reserve your spot ASAP\, as we're sure these seats will go fast. Once we have 40\, we'll start a waiting list to fill any cancellations. Your spot is secure once we receive your $40 class fee.    The fastest method to reserve your spot is through our online store here --&gt; mscra.com/store/. Once there\, click on "general payment" and pay $40.    *** Bring your wine; we'll have the cheese and grapes! ***    Please visit easelyamused.com for more information on the company.    MCRA looks forward to seeing you there!
LOCATION:115 W. Jackson Street, Suite F, Ridgeland, MS, 39157, United States
URL:http://mscra.com/event/pre-convention-fun/
END:VEVENT
END:VCALENDAR