BEGIN:VCALENDAR
VERSION:2.0
PRODID:-//MCRA - ECPv2.0.11//NONSGML v1.0//EN
CALSCALE:GREGORIAN
METHOD:PUBLISH
X-WR-CALNAME:MCRA
X-ORIGINAL-URL:http://mscra.com
X-WR-CALDESC:Events for MCRA
X-WR-TIMEZONE:America/Chicago
BEGIN:VEVENT
DTSTART;VALUE=DATE-TIME:20140816T080000
DTEND;VALUE=DATE-TIME:20140816T120000.000000
DTSTAMP:20260424T185156
CREATED:20140805T211820
LAST-MODIFIED:20140805T211820
UID:2321-1408176000-@http://mscra.com
SUMMARY:RPR and CRR Skills Exam at MC School of Law
DESCRIPTION:   Chief Examiner\, Melissa Magee     Phone: 601-797-9240   Email: melissa@aspirereporting.com       Sponsored by MCRA  
LOCATION: 151 East Griffith Street, Jackson, MS,  39201, United States
URL:http://mscra.com/event/rpr-and-crr-skills-exam-at-mc-school-of-law/
END:VEVENT
END:VCALENDAR