BEGIN:VCALENDAR
VERSION:2.0
PRODID:-//MCRA - ECPv2.0.11//NONSGML v1.0//EN
CALSCALE:GREGORIAN
METHOD:PUBLISH
X-WR-CALNAME:MCRA
X-ORIGINAL-URL:http://mscra.com
X-WR-CALDESC:Events for MCRA
X-WR-TIMEZONE:America/Chicago
BEGIN:VEVENT
DTSTART;VALUE=DATE-TIME:20170207T111500
DTEND;VALUE=DATE-TIME:20170207T150000.000000
DTSTAMP:20260424T173940
CREATED:20150114T200658
LAST-MODIFIED:20170129T142001
UID:2488-1486466100-@http://mscra.com
SUMMARY:Table at the Capitol
DESCRIPTION:Please join us this day at the MCRA table at our state Capitol in Jackson\, Mississippi.  We will be celebrating National Court Reporting &amp; Captioning Week as well as visiting with our elected officials on local topics.
LOCATION:
URL:http://mscra.com/event/table-at-the-capitol/
END:VEVENT
END:VCALENDAR